BEGIN:VCALENDAR
VERSION:2.0
PRODID:-//wp-events-plugin.com//7.2.3.1//EN
TZID:Europe/Lisbon
X-WR-TIMEZONE:Europe/Lisbon
BEGIN:VEVENT
UID:78@quintadamalafaia.pt
DTSTART;TZID=Europe/Lisbon:20191231T210000
DTEND;TZID=Europe/Lisbon:20200101T020000
DTSTAMP:20191219T092932Z
URL:https://quintadamalafaia.pt/arraiais/passagem-de-ano-2019/
SUMMARY:Passagem de Ano 2019 - ESGOTADO
DESCRIPTION:Passagem de Ano 2019/2020\n\nVeja o programa e preços aqui\n\n
 \n\n\n\nESGOTADO\nJá não é possível efetuar reservas!
ATTACH;FMTTYPE=image/jpeg:https://quintadamalafaia.pt/wp-content/uploads/2
 019/10/FIM-DE-ANO-MALAFAIA-2019.jpg
CATEGORIES:Arraial
LOCATION:Quinta da Malafaia\, R. Poça da Mansa\, Esposende\, Portugal\, 47
 40-016\, Portugal
GEO:41.613266711476186;-8.776295259277276
X-APPLE-STRUCTURED-LOCATION;VALUE=URI;X-ADDRESS=R. Poça da Mansa\, Esposen
 de\, Portugal\, 4740-016\, Portugal;X-APPLE-RADIUS=100;X-TITLE=Quinta da M
 alafaia:geo:41.613266711476186,-8.776295259277276
END:VEVENT
BEGIN:VTIMEZONE
TZID:Europe/Lisbon
X-LIC-LOCATION:Europe/Lisbon
BEGIN:STANDARD
DTSTART:20191027T010000
TZOFFSETFROM:+0100
TZOFFSETTO:+0000
TZNAME:WET
END:STANDARD
END:VTIMEZONE
END:VCALENDAR