BEGIN:VCALENDAR
VERSION:2.0
PRODID:-//wp-events-plugin.com//7.2.3.1//EN
TZID:Europe/Lisbon
X-WR-TIMEZONE:Europe/Lisbon
BEGIN:VEVENT
UID:167@quintadamalafaia.pt
DTSTART;TZID=Europe/Lisbon:20260307T193000
DTEND;TZID=Europe/Lisbon:20260308T030000
DTSTAMP:20260213T094543Z
URL:https://quintadamalafaia.pt/arraiais/dia-da-mulher-7-de-marco-de-2026/
SUMMARY:Dia da Mulher - 7 de Março de 2026
DESCRIPTION:Dia da Mulher\, com a presença dos artistas DNA e Marcus
ATTACH;FMTTYPE=image/jpeg:https://quintadamalafaia.pt/wp-content/uploads/2
 026/01/folheto-malafaia-dia-da-mulher.jpg
CATEGORIES:Arraial
LOCATION:Quinta da Malafaia\, R. Poça da Mansa\, Esposende\, Portugal\, 47
 40-016\, Portugal
GEO:41.613266711476186;-8.776295259277276
X-APPLE-STRUCTURED-LOCATION;VALUE=URI;X-ADDRESS=R. Poça da Mansa\, Esposen
 de\, Portugal\, 4740-016\, Portugal;X-APPLE-RADIUS=100;X-TITLE=Quinta da M
 alafaia:geo:41.613266711476186,-8.776295259277276
END:VEVENT
BEGIN:VTIMEZONE
TZID:Europe/Lisbon
X-LIC-LOCATION:Europe/Lisbon
BEGIN:STANDARD
DTSTART:20251026T010000
TZOFFSETFROM:+0100
TZOFFSETTO:+0000
TZNAME:WET
END:STANDARD
END:VTIMEZONE
END:VCALENDAR